BEGIN:VCALENDAR
VERSION:2.0
PRODID:-//Major League Goaltending - ECPv6.15.20//NONSGML v1.0//EN
CALSCALE:GREGORIAN
METHOD:PUBLISH
X-ORIGINAL-URL:https://majorleaguegoaltending.com
X-WR-CALDESC:Events for Major League Goaltending
REFRESH-INTERVAL;VALUE=DURATION:PT1H
X-Robots-Tag:noindex
X-PUBLISHED-TTL:PT1H
BEGIN:VTIMEZONE
TZID:America/Detroit
BEGIN:DAYLIGHT
TZOFFSETFROM:-0500
TZOFFSETTO:-0400
TZNAME:EDT
DTSTART:20200308T070000
END:DAYLIGHT
BEGIN:STANDARD
TZOFFSETFROM:-0400
TZOFFSETTO:-0500
TZNAME:EST
DTSTART:20201101T060000
END:STANDARD
BEGIN:DAYLIGHT
TZOFFSETFROM:-0500
TZOFFSETTO:-0400
TZNAME:EDT
DTSTART:20210314T070000
END:DAYLIGHT
BEGIN:STANDARD
TZOFFSETFROM:-0400
TZOFFSETTO:-0500
TZNAME:EST
DTSTART:20211107T060000
END:STANDARD
BEGIN:DAYLIGHT
TZOFFSETFROM:-0500
TZOFFSETTO:-0400
TZNAME:EDT
DTSTART:20220313T070000
END:DAYLIGHT
BEGIN:STANDARD
TZOFFSETFROM:-0400
TZOFFSETTO:-0500
TZNAME:EST
DTSTART:20221106T060000
END:STANDARD
BEGIN:DAYLIGHT
TZOFFSETFROM:-0500
TZOFFSETTO:-0400
TZNAME:EDT
DTSTART:20230312T070000
END:DAYLIGHT
BEGIN:STANDARD
TZOFFSETFROM:-0400
TZOFFSETTO:-0500
TZNAME:EST
DTSTART:20231105T060000
END:STANDARD
END:VTIMEZONE
BEGIN:VEVENT
DTSTART;TZID=America/Detroit:20220203T160000
DTEND;TZID=America/Detroit:20220203T170000
DTSTAMP:20260422T103821
CREATED:20201110T183908Z
LAST-MODIFIED:20211207T195933Z
UID:1538-1643904000-1643907600@majorleaguegoaltending.com
SUMMARY:After School Special
DESCRIPTION:Our After School Special Program will allow goalies to work on their positional\, rebound and puckhandling control weekly with MLG Director Derrick Laporte and his staff. Our early start time is ideal for goalies who may have a team practice later in the evening and high-school aged goalies who finish their classes early. Goalies will be grouped based on age and skill level. Our in-season programs are designed to keep you sharp and extend upon the skills and techniques learned in our Summer Development Camps. \n\n 
URL:https://majorleaguegoaltending.com/event/afterschoolspec3-2-2-2-2-2-2-2-2-2-2-2-2-2-2/
LOCATION:Atlas Tube Centre\, 447 Renaud Line Rd.\, Lakeshore\, Ontario\, N9J2X9\, Canada
ATTACH;FMTTYPE=image/jpeg:https://majorleaguegoaltending.com/wp-content/uploads/2021/09/BCDFBE22-06ED-4C2C-B54F-66C013DB375D.jpeg
ORGANIZER;CN="Derrick Laporte":MAILTO:derrick@majorleaguegoaltending.com
END:VEVENT
BEGIN:VEVENT
DTSTART;TZID=America/Detroit:20220131T190000
DTEND;TZID=America/Detroit:20220131T203000
DTSTAMP:20260422T103821
CREATED:20210911T205424Z
LAST-MODIFIED:20210927T005926Z
UID:1360-1643655600-1643661000@majorleaguegoaltending.com
SUMMARY:Power Hour Plus+
DESCRIPTION:Work on your game and get quality reps in our Power Hour + Drills\, Skills and Thrills program at Central Park Athletics. In these grueling hour-and-a-half sessions you will benefit from a close working relationship with your MLG Goalie Coach who will help you make fine adjustments to your approach. The program is structured so that goalies will get a full Power Hour to develop skating\, recovery and puckhandling skills\, PLUS+ a 1/2 hour in small area games and drills against elite players their own age. \n\nFull 1.5h training sessions\, every Monday from 7:00pm – 8:30pm (ticket valid for date shown)\nWeekly Power Hour to develop skating\, recovery\, edges and puckhandling skills\nPlus a 1/2 Hour of small area games and shooting drills against age/skill appropriate players
URL:https://majorleaguegoaltending.com/event/power-hour-plus-oct-18-2-2-2-2-2-2-2-2-2-2-2/
LOCATION:Forest Glade Arena\, 3205 Forest Glade Drive\, Windsor\, ON\, N8R1W7\, Canada
ORGANIZER;CN="Derrick Laporte":MAILTO:derrick@majorleaguegoaltending.com
END:VEVENT
BEGIN:VEVENT
DTSTART;TZID=America/Detroit:20220127T160000
DTEND;TZID=America/Detroit:20220127T170000
DTSTAMP:20260422T103821
CREATED:20201110T183908Z
LAST-MODIFIED:20211207T195423Z
UID:1535-1643299200-1643302800@majorleaguegoaltending.com
SUMMARY:After School Special
DESCRIPTION:Our After School Special Program will allow goalies to work on their positional\, rebound and puckhandling control weekly with MLG Director Derrick Laporte and his staff. Our early start time is ideal for goalies who may have a team practice later in the evening and high-school aged goalies who finish their classes early. Goalies will be grouped based on age and skill level. Our in-season programs are designed to keep you sharp and extend upon the skills and techniques learned in our Summer Development Camps. \n\n 
URL:https://majorleaguegoaltending.com/event/afterschoolspec3-2-2-2-2-2-2-2-2-2-2-2-2-2/
LOCATION:Atlas Tube Centre\, 447 Renaud Line Rd.\, Lakeshore\, Ontario\, N9J2X9\, Canada
ATTACH;FMTTYPE=image/jpeg:https://majorleaguegoaltending.com/wp-content/uploads/2021/09/BCDFBE22-06ED-4C2C-B54F-66C013DB375D.jpeg
ORGANIZER;CN="Derrick Laporte":MAILTO:derrick@majorleaguegoaltending.com
END:VEVENT
BEGIN:VEVENT
DTSTART;TZID=America/Detroit:20220125T164500
DTEND;TZID=America/Detroit:20220125T174500
DTSTAMP:20260422T103821
CREATED:20210927T005033Z
LAST-MODIFIED:20210927T031809Z
UID:1441-1643129100-1643132700@majorleaguegoaltending.com
SUMMARY:Drills\, Skills and Thrills
DESCRIPTION:Tuesday’s at Forest Glade Arena\n4:45pm – 5:45pm\nDevelop your tactical approaches for in-game situations (ie. zone entries\, east-west plays\, net drives\, screens and tips\, rebounds\, etc…)\nOpen to male and female goalies of all ages\nGoalies will be grouped based on age and skill level\, small group sizes at each station\n\nWe are happy to bring you our popular “Drills\, Skills and Thrills” program at Forest Glade! This amazing training opportunity allows goaltenders to work on their tactical approaches for defending against the 10 Scoring Situations. There’s no doubt about it\, technical skills are a huge part of the basic foundations that make up goaltending. Skating\, recovery\, puckhanding and save mechanics are all critical parts of a goalie’s game. However\, if you’re not working on the cognitive side; how to read game situations and defend against the common scoring scenarios\, your training is missing the mark! The aim is to get our goalies to “train their brains” to make correct reads in-game. \nThe program is open to male and female goalies of all ages. Goalies will be grouped to face players their own age and skill level at each station with careful oversight from your goalie coach. We are sharing the ice with Cadotte Hockey Academy if you have a skater in the family that wants to train. After you register your goalie\, if you’d like to kill two birds with one stone\, click on the link HERE to sign up for Caddy’s program.
URL:https://majorleaguegoaltending.com/event/drills-skills-and-thrills-4-2-3-2-2-2/
LOCATION:Forest Glade Arena\, 3205 Forest Glade Drive\, Windsor\, ON\, N8R1W7\, Canada
END:VEVENT
BEGIN:VEVENT
DTSTART;TZID=America/Detroit:20220124T190000
DTEND;TZID=America/Detroit:20220124T203000
DTSTAMP:20260422T103821
CREATED:20210911T205424Z
LAST-MODIFIED:20210927T005932Z
UID:1357-1643050800-1643056200@majorleaguegoaltending.com
SUMMARY:Power Hour Plus+
DESCRIPTION:Work on your game and get quality reps in our Power Hour + Drills\, Skills and Thrills program at Central Park Athletics. In these grueling hour-and-a-half sessions you will benefit from a close working relationship with your MLG Goalie Coach who will help you make fine adjustments to your approach. The program is structured so that goalies will get a full Power Hour to develop skating\, recovery and puckhandling skills\, PLUS+ a 1/2 hour in small area games and drills against elite players their own age. \n\nFull 1.5h training sessions\, every Monday from 7:00pm – 8:30pm (ticket valid for date shown)\nWeekly Power Hour to develop skating\, recovery\, edges and puckhandling skills\nPlus a 1/2 Hour of small area games and shooting drills against age/skill appropriate players
URL:https://majorleaguegoaltending.com/event/power-hour-plus-oct-18-2-2-2-2-2-2-2-2-2-2/
LOCATION:Forest Glade Arena\, 3205 Forest Glade Drive\, Windsor\, ON\, N8R1W7\, Canada
ORGANIZER;CN="Derrick Laporte":MAILTO:derrick@majorleaguegoaltending.com
END:VEVENT
BEGIN:VEVENT
DTSTART;TZID=America/Detroit:20220120T160000
DTEND;TZID=America/Detroit:20220120T170000
DTSTAMP:20260422T103821
CREATED:20201110T183908Z
LAST-MODIFIED:20211207T195318Z
UID:1532-1642694400-1642698000@majorleaguegoaltending.com
SUMMARY:After School Special
DESCRIPTION:Our After School Special Program will allow goalies to work on their positional\, rebound and puckhandling control weekly with MLG Director Derrick Laporte and his staff. Our early start time is ideal for goalies who may have a team practice later in the evening and high-school aged goalies who finish their classes early. Goalies will be grouped based on age and skill level. Our in-season programs are designed to keep you sharp and extend upon the skills and techniques learned in our Summer Development Camps. \n\n 
URL:https://majorleaguegoaltending.com/event/afterschoolspec3-2-2-2-2-2-2-2-2-2-2-2-2/
LOCATION:Atlas Tube Centre\, 447 Renaud Line Rd.\, Lakeshore\, Ontario\, N9J2X9\, Canada
ATTACH;FMTTYPE=image/jpeg:https://majorleaguegoaltending.com/wp-content/uploads/2021/09/BCDFBE22-06ED-4C2C-B54F-66C013DB375D.jpeg
ORGANIZER;CN="Derrick Laporte":MAILTO:derrick@majorleaguegoaltending.com
END:VEVENT
BEGIN:VEVENT
DTSTART;TZID=America/Detroit:20220118T164500
DTEND;TZID=America/Detroit:20220118T174500
DTSTAMP:20260422T103821
CREATED:20210927T005033Z
LAST-MODIFIED:20210927T033635Z
UID:1444-1642524300-1642527900@majorleaguegoaltending.com
SUMMARY:Drills\, Skills and Thrills
DESCRIPTION:Tuesday’s at Forest Glade Arena\n4:45pm – 5:45pm\nDevelop your tactical approaches for in-game situations (ie. zone entries\, east-west plays\, net drives\, screens and tips\, rebounds\, etc…)\nOpen to male and female goalies of all ages\nGoalies will be grouped based on age and skill level\, small group sizes at each station\n\nWe are happy to bring you our popular “Drills\, Skills and Thrills” program at Forest Glade! This amazing training opportunity allows goaltenders to work on their tactical approaches for defending against the 10 Scoring Situations. There’s no doubt about it\, technical skills are a huge part of the basic foundations that make up goaltending. Skating\, recovery\, puckhanding and save mechanics are all critical parts of a goalie’s game. However\, if you’re not working on the cognitive side; how to read game situations and defend against the common scoring scenarios\, your training is missing the mark! The aim is to get our goalies to “train their brains” to make correct reads in-game. \nThe program is open to male and female goalies of all ages. Goalies will be grouped to face players their own age and skill level at each station with careful oversight from your goalie coach. We are sharing the ice with Cadotte Hockey Academy if you have a skater in the family that wants to train. After you register your goalie\, if you’d like to kill two birds with one stone\, click on the link HERE to sign up for Caddy’s program.
URL:https://majorleaguegoaltending.com/event/drills-skills-and-thrills-4-2-3-2-2-3/
LOCATION:Forest Glade Arena\, 3205 Forest Glade Drive\, Windsor\, ON\, N8R1W7\, Canada
END:VEVENT
BEGIN:VEVENT
DTSTART;TZID=America/Detroit:20220117T190000
DTEND;TZID=America/Detroit:20220117T203000
DTSTAMP:20260422T103821
CREATED:20210911T205424Z
LAST-MODIFIED:20210927T005940Z
UID:1354-1642446000-1642451400@majorleaguegoaltending.com
SUMMARY:Power Hour Plus+
DESCRIPTION:Work on your game and get quality reps in our Power Hour + Drills\, Skills and Thrills program at Central Park Athletics. In these grueling hour-and-a-half sessions you will benefit from a close working relationship with your MLG Goalie Coach who will help you make fine adjustments to your approach. The program is structured so that goalies will get a full Power Hour to develop skating\, recovery and puckhandling skills\, PLUS+ a 1/2 hour in small area games and drills against elite players their own age. \n\nFull 1.5h training sessions\, every Monday from 7:00pm – 8:30pm (ticket valid for date shown)\nWeekly Power Hour to develop skating\, recovery\, edges and puckhandling skills\nPlus a 1/2 Hour of small area games and shooting drills against age/skill appropriate players
URL:https://majorleaguegoaltending.com/event/power-hour-plus-oct-18-2-2-2-2-2-2-2-2-2/
LOCATION:Forest Glade Arena\, 3205 Forest Glade Drive\, Windsor\, ON\, N8R1W7\, Canada
ORGANIZER;CN="Derrick Laporte":MAILTO:derrick@majorleaguegoaltending.com
END:VEVENT
BEGIN:VEVENT
DTSTART;TZID=America/Detroit:20220110T190000
DTEND;TZID=America/Detroit:20220110T203000
DTSTAMP:20260422T103821
CREATED:20210911T205424Z
LAST-MODIFIED:20210927T005949Z
UID:1351-1641841200-1641846600@majorleaguegoaltending.com
SUMMARY:Power Hour Plus+
DESCRIPTION:Work on your game and get quality reps in our Power Hour + Drills\, Skills and Thrills program at Central Park Athletics. In these grueling hour-and-a-half sessions you will benefit from a close working relationship with your MLG Goalie Coach who will help you make fine adjustments to your approach. The program is structured so that goalies will get a full Power Hour to develop skating\, recovery and puckhandling skills\, PLUS+ a 1/2 hour in small area games and drills against elite players their own age. \n\nFull 1.5h training sessions\, every Monday from 7:00pm – 8:30pm (ticket valid for date shown)\nWeekly Power Hour to develop skating\, recovery\, edges and puckhandling skills\nPlus a 1/2 Hour of small area games and shooting drills against age/skill appropriate players
URL:https://majorleaguegoaltending.com/event/power-hour-plus-oct-18-2-2-2-2-2-2-2-2/
LOCATION:Forest Glade Arena\, 3205 Forest Glade Drive\, Windsor\, ON\, N8R1W7\, Canada
ORGANIZER;CN="Derrick Laporte":MAILTO:derrick@majorleaguegoaltending.com
END:VEVENT
BEGIN:VEVENT
DTSTART;TZID=America/Detroit:20211220T110000
DTEND;TZID=America/Detroit:20211220T130000
DTSTAMP:20260422T103821
CREATED:20211217T165240Z
LAST-MODIFIED:20211217T225423Z
UID:1571-1639998000-1640005200@majorleaguegoaltending.com
SUMMARY:MLG Christmas Camp (Advanced Group)
DESCRIPTION:Work on your game over the Christmas Holiday with MLG! The camp features 2h of daily on-ice instruction with video performance reviews\, and visual/cognitive training. Campers will get the benefit of small group instruction at each station from a Major League coach. Small group sizes will ensure every goalie gets the individual attention they need. The camp will only accommodate a maximum of 8 Goalies at 4 stations. \n  \nAdvanced Group: 2009 and older
URL:https://majorleaguegoaltending.com/event/mlg-christmas-camp-young-guns-2/
LOCATION:Ontario
ATTACH;FMTTYPE=image/jpeg:https://majorleaguegoaltending.com/wp-content/uploads/2020/11/CDFF1D6F-DEC3-4F97-9C54-0748B0929F4F.jpeg
END:VEVENT
BEGIN:VEVENT
DTSTART;TZID=America/Detroit:20211220T090000
DTEND;TZID=America/Detroit:20211220T110000
DTSTAMP:20260422T103821
CREATED:20211217T165240Z
LAST-MODIFIED:20211217T170731Z
UID:1568-1639990800-1639998000@majorleaguegoaltending.com
SUMMARY:MLG Christmas Camp (Young Guns)
DESCRIPTION:Work on your game over the Christmas Holiday with MLG! The camp features 2h of daily on-ice instruction with video performance reviews\, and visual/cognitive training. Campers will get the benefit of small group instruction at each station from a Major League coach. Small group sizes will ensure every goalie gets the individual attention they need. The camp will only accommodate a maximum of 8 Goalies at 4 stations.
URL:https://majorleaguegoaltending.com/event/mlg-christmas-camp-young-guns/
LOCATION:Ontario
ATTACH;FMTTYPE=image/jpeg:https://majorleaguegoaltending.com/wp-content/uploads/2020/11/CDFF1D6F-DEC3-4F97-9C54-0748B0929F4F.jpeg
END:VEVENT
BEGIN:VEVENT
DTSTART;TZID=America/Detroit:20210930T160000
DTEND;TZID=America/Detroit:20210930T170000
DTSTAMP:20260422T103821
CREATED:20201110T183908Z
LAST-MODIFIED:20210927T023108Z
UID:1277-1633017600-1633021200@majorleaguegoaltending.com
SUMMARY:After School Special
DESCRIPTION:Our After School Special Program will allow goalies to work on their positional\, rebound and puckhandling control weekly with MLG Director Derrick Laporte and his staff. Our early start time is ideal for goalies who may have a team practice later in the evening and high-school aged goalies who finish their classes early. Goalies will be grouped based on age and skill level. Our in-season programs are designed to keep you sharp and extend upon the skills and techniques learned in our Summer Development Camps. \n\n 
URL:https://majorleaguegoaltending.com/event/afterschoolspec3/
LOCATION:Atlas Tube Centre\, 447 Renaud Line Rd.\, Lakeshore\, Ontario\, N9J2X9\, Canada
ATTACH;FMTTYPE=image/jpeg:https://majorleaguegoaltending.com/wp-content/uploads/2021/09/BCDFBE22-06ED-4C2C-B54F-66C013DB375D.jpeg
ORGANIZER;CN="Derrick Laporte":MAILTO:derrick@majorleaguegoaltending.com
END:VEVENT
BEGIN:VEVENT
DTSTART;TZID=America/Detroit:20210923T160000
DTEND;TZID=America/Detroit:20210923T170000
DTSTAMP:20260422T103821
CREATED:20201110T183908Z
LAST-MODIFIED:20210927T023114Z
UID:1281-1632412800-1632416400@majorleaguegoaltending.com
SUMMARY:After School Special
DESCRIPTION:Our After School Special Program will allow goalies to work on their positional\, rebound and puckhandling control weekly with MLG Director Derrick Laporte and his staff. Our early start time is ideal for goalies who may have a team practice later in the evening and high-school aged goalies who finish their classes early. Goalies will be grouped based on age and skill level. Our in-season programs are designed to keep you sharp and extend upon the skills and techniques learned in our Summer Development Camps. \n\n 
URL:https://majorleaguegoaltending.com/event/afterschoolspecial2/
LOCATION:Atlas Tube Centre\, 447 Renaud Line Rd.\, Lakeshore\, Ontario\, N9J2X9\, Canada
ATTACH;FMTTYPE=image/jpeg:https://majorleaguegoaltending.com/wp-content/uploads/2021/09/BCDFBE22-06ED-4C2C-B54F-66C013DB375D.jpeg
ORGANIZER;CN="Derrick Laporte":MAILTO:derrick@majorleaguegoaltending.com
END:VEVENT
BEGIN:VEVENT
DTSTART;TZID=America/Detroit:20210916T160000
DTEND;TZID=America/Detroit:20210916T170000
DTSTAMP:20260422T103821
CREATED:20201110T183908Z
LAST-MODIFIED:20210927T023120Z
UID:722-1631808000-1631811600@majorleaguegoaltending.com
SUMMARY:After School Special
DESCRIPTION:Our After School Special Program will allow goalies to work on their positional\, rebound and puckhandling control weekly with MLG Director Derrick Laporte and his staff. Our early start time is ideal for goalies who may have a team practice later in the evening and high-school aged goalies who finish their classes early. Goalies will be grouped based on age and skill level. Our in-season programs are designed to keep you sharp and extend upon the skills and techniques learned in our Summer Development Camps. \n\n 
URL:https://majorleaguegoaltending.com/event/young-guns-2013-2011s-2-2-2-2-2-2-2/
LOCATION:Atlas Tube Centre\, 447 Renaud Line Rd.\, Lakeshore\, Ontario\, N9J2X9\, Canada
ATTACH;FMTTYPE=image/jpeg:https://majorleaguegoaltending.com/wp-content/uploads/2021/09/BCDFBE22-06ED-4C2C-B54F-66C013DB375D.jpeg
ORGANIZER;CN="Derrick Laporte":MAILTO:derrick@majorleaguegoaltending.com
END:VEVENT
END:VCALENDAR