BEGIN:VCALENDAR
VERSION:2.0
PRODID:-//Major League Goaltending - ECPv6.15.20//NONSGML v1.0//EN
CALSCALE:GREGORIAN
METHOD:PUBLISH
X-ORIGINAL-URL:https://majorleaguegoaltending.com
X-WR-CALDESC:Events for Major League Goaltending
REFRESH-INTERVAL;VALUE=DURATION:PT1H
X-Robots-Tag:noindex
X-PUBLISHED-TTL:PT1H
BEGIN:VTIMEZONE
TZID:America/Detroit
BEGIN:DAYLIGHT
TZOFFSETFROM:-0500
TZOFFSETTO:-0400
TZNAME:EDT
DTSTART:20200308T070000
END:DAYLIGHT
BEGIN:STANDARD
TZOFFSETFROM:-0400
TZOFFSETTO:-0500
TZNAME:EST
DTSTART:20201101T060000
END:STANDARD
BEGIN:DAYLIGHT
TZOFFSETFROM:-0500
TZOFFSETTO:-0400
TZNAME:EDT
DTSTART:20210314T070000
END:DAYLIGHT
BEGIN:STANDARD
TZOFFSETFROM:-0400
TZOFFSETTO:-0500
TZNAME:EST
DTSTART:20211107T060000
END:STANDARD
BEGIN:DAYLIGHT
TZOFFSETFROM:-0500
TZOFFSETTO:-0400
TZNAME:EDT
DTSTART:20220313T070000
END:DAYLIGHT
BEGIN:STANDARD
TZOFFSETFROM:-0400
TZOFFSETTO:-0500
TZNAME:EST
DTSTART:20221106T060000
END:STANDARD
END:VTIMEZONE
BEGIN:VEVENT
DTSTART;TZID=America/Detroit:20210923T160000
DTEND;TZID=America/Detroit:20210923T170000
DTSTAMP:20260422T123245
CREATED:20201110T183908Z
LAST-MODIFIED:20210927T023114Z
UID:1281-1632412800-1632416400@majorleaguegoaltending.com
SUMMARY:After School Special
DESCRIPTION:Our After School Special Program will allow goalies to work on their positional\, rebound and puckhandling control weekly with MLG Director Derrick Laporte and his staff. Our early start time is ideal for goalies who may have a team practice later in the evening and high-school aged goalies who finish their classes early. Goalies will be grouped based on age and skill level. Our in-season programs are designed to keep you sharp and extend upon the skills and techniques learned in our Summer Development Camps. \n\n 
URL:https://majorleaguegoaltending.com/event/afterschoolspecial2/
LOCATION:Atlas Tube Centre\, 447 Renaud Line Rd.\, Lakeshore\, Ontario\, N9J2X9\, Canada
ATTACH;FMTTYPE=image/jpeg:https://majorleaguegoaltending.com/wp-content/uploads/2021/09/BCDFBE22-06ED-4C2C-B54F-66C013DB375D.jpeg
ORGANIZER;CN="Derrick Laporte":MAILTO:derrick@majorleaguegoaltending.com
END:VEVENT
BEGIN:VEVENT
DTSTART;TZID=America/Detroit:20210916T160000
DTEND;TZID=America/Detroit:20210916T170000
DTSTAMP:20260422T123245
CREATED:20201110T183908Z
LAST-MODIFIED:20210927T023120Z
UID:722-1631808000-1631811600@majorleaguegoaltending.com
SUMMARY:After School Special
DESCRIPTION:Our After School Special Program will allow goalies to work on their positional\, rebound and puckhandling control weekly with MLG Director Derrick Laporte and his staff. Our early start time is ideal for goalies who may have a team practice later in the evening and high-school aged goalies who finish their classes early. Goalies will be grouped based on age and skill level. Our in-season programs are designed to keep you sharp and extend upon the skills and techniques learned in our Summer Development Camps. \n\n 
URL:https://majorleaguegoaltending.com/event/young-guns-2013-2011s-2-2-2-2-2-2-2/
LOCATION:Atlas Tube Centre\, 447 Renaud Line Rd.\, Lakeshore\, Ontario\, N9J2X9\, Canada
ATTACH;FMTTYPE=image/jpeg:https://majorleaguegoaltending.com/wp-content/uploads/2021/09/BCDFBE22-06ED-4C2C-B54F-66C013DB375D.jpeg
ORGANIZER;CN="Derrick Laporte":MAILTO:derrick@majorleaguegoaltending.com
END:VEVENT
END:VCALENDAR